BEGIN:VCALENDAR
VERSION:2.0
PRODID:-//Unitarian Universalist Congregation of Cleveland - ECPv6.15.20//NONSGML v1.0//EN
CALSCALE:GREGORIAN
METHOD:PUBLISH
X-WR-CALNAME:Unitarian Universalist Congregation of Cleveland
X-ORIGINAL-URL:https://uucleveland.org
X-WR-CALDESC:Events for Unitarian Universalist Congregation of Cleveland
REFRESH-INTERVAL;VALUE=DURATION:PT1H
X-Robots-Tag:noindex
X-PUBLISHED-TTL:PT1H
BEGIN:VTIMEZONE
TZID:America/New_York
BEGIN:DAYLIGHT
TZOFFSETFROM:-0500
TZOFFSETTO:-0400
TZNAME:EDT
DTSTART:20210314T070000
END:DAYLIGHT
BEGIN:STANDARD
TZOFFSETFROM:-0400
TZOFFSETTO:-0500
TZNAME:EST
DTSTART:20211107T060000
END:STANDARD
BEGIN:DAYLIGHT
TZOFFSETFROM:-0500
TZOFFSETTO:-0400
TZNAME:EDT
DTSTART:20220313T070000
END:DAYLIGHT
BEGIN:STANDARD
TZOFFSETFROM:-0400
TZOFFSETTO:-0500
TZNAME:EST
DTSTART:20221106T060000
END:STANDARD
BEGIN:DAYLIGHT
TZOFFSETFROM:-0500
TZOFFSETTO:-0400
TZNAME:EDT
DTSTART:20230312T070000
END:DAYLIGHT
BEGIN:STANDARD
TZOFFSETFROM:-0400
TZOFFSETTO:-0500
TZNAME:EST
DTSTART:20231105T060000
END:STANDARD
END:VTIMEZONE
BEGIN:VEVENT
DTSTART;TZID=America/New_York:20220327T093000
DTEND;TZID=America/New_York:20220327T104500
DTSTAMP:20260422T192718
CREATED:20230715T234322Z
LAST-MODIFIED:20230716T005024Z
UID:16460-1648373400-1648377900@uucleveland.org
SUMMARY:Fracking\, Radioactive Brine and Icy Roads
DESCRIPTION:Speakers: Cheryl Johncox\, Fossil Fuels Organizer\, Sierra Club\, and Ted Auch\, Ph.D.\, Director\, FracTracker Alliance\, Great Lakes Program. \n\n\n\nThe brine that the fracking industry produces as waste is being used on Ohio’s roads as a de-icer. Limited testing indicates the brine contains radioactive concentrations that can pollute soil or become airborne as radioactive dust\, thus contaminating drinking water and agricultural products. This toxic radioactive waste is also disposed of in Class II Injection wells where it can also contaminate groundwater.
URL:https://uucleveland.org/uucc_event/fracking-radioactive-brine-and-icy-roads/
CATEGORIES:Forums
END:VEVENT
END:VCALENDAR