BEGIN:VCALENDAR
VERSION:2.0
PRODID:-//Unitarian Universalist Congregation of Cleveland - ECPv6.15.20//NONSGML v1.0//EN
CALSCALE:GREGORIAN
METHOD:PUBLISH
X-ORIGINAL-URL:https://uucleveland.org
X-WR-CALDESC:Events for Unitarian Universalist Congregation of Cleveland
REFRESH-INTERVAL;VALUE=DURATION:PT1H
X-Robots-Tag:noindex
X-PUBLISHED-TTL:PT1H
BEGIN:VTIMEZONE
TZID:America/New_York
BEGIN:DAYLIGHT
TZOFFSETFROM:-0500
TZOFFSETTO:-0400
TZNAME:EDT
DTSTART:20220313T070000
END:DAYLIGHT
BEGIN:STANDARD
TZOFFSETFROM:-0400
TZOFFSETTO:-0500
TZNAME:EST
DTSTART:20221106T060000
END:STANDARD
BEGIN:DAYLIGHT
TZOFFSETFROM:-0500
TZOFFSETTO:-0400
TZNAME:EDT
DTSTART:20230312T070000
END:DAYLIGHT
BEGIN:STANDARD
TZOFFSETFROM:-0400
TZOFFSETTO:-0500
TZNAME:EST
DTSTART:20231105T060000
END:STANDARD
BEGIN:DAYLIGHT
TZOFFSETFROM:-0500
TZOFFSETTO:-0400
TZNAME:EDT
DTSTART:20240310T070000
END:DAYLIGHT
BEGIN:STANDARD
TZOFFSETFROM:-0400
TZOFFSETTO:-0500
TZNAME:EST
DTSTART:20241103T060000
END:STANDARD
END:VTIMEZONE
BEGIN:VEVENT
DTSTART;TZID=America/New_York:20231105T090000
DTEND;TZID=America/New_York:20231105T100000
DTSTAMP:20260423T042446
CREATED:20230724T011133Z
LAST-MODIFIED:20231107T011436Z
UID:16391-1699174800-1699178400@uucleveland.org
SUMMARY:Make Your Home More Comfortable\, Eco-Friendly\, Affordable 
DESCRIPTION:Join in person or via Zoom \n\n\n\n\n\n Speakers: Alberto Alas\, AIA\, LEED Architect\, Alas Consulting; Martin Berry\, Certified Energy Auditor\, President\, Berry Insulation  \n\n\n\nThe Inflation Reduction Act of 2022 is the most significant climate legislation in U.S. history\, offering funding\, programs and incentives to accelerate our urgent transition to a clean energy economy. It is intended to drive significant deployment of new clean electricity resources in all our homes and businesses.  How will this law help make your home more comfortable\, eco-friendly and affordable?
URL:https://uucleveland.org/uucc_event/how-to-save-money-with-clean-electricity/
CATEGORIES:Forums
END:VEVENT
BEGIN:VEVENT
DTSTART;TZID=America/New_York:20231105T113000
DTEND;TZID=America/New_York:20231105T130000
DTSTAMP:20260423T042446
CREATED:20231009T012016Z
LAST-MODIFIED:20231010T122109Z
UID:17419-1699183800-1699189200@uucleveland.org
SUMMARY:Relinquished: The Politics of Adoption and the Privilege of American Motherhood (Discussion)
DESCRIPTION:Part 2 of 2-Part Special Forum Event\n\n\n\nIn a political moment in Ohio where adoption is often invoked as an abortion alternative\, what can we learn from the experiences of women who have relinquished children for adoption? Adoption Network Cleveland is pleased to host sociologist Gretchen Sisson\, Ph.D.  for a special preview of her upcoming book\, Relinquished: The Politics of Adoption and the Privilege of American Motherhood (Macmillan\, February 2024). Unitarian Universalist Congregation of Cleveland is proud to be a partner. \n\n\n\nSunday\, November 5\, 11:30amIn-Person discussion led by Betsie Norris\, Founder & Executive Director\, Adoption Network Cleveland. At Unitarian Universalist Congregation of Cleveland\, 21600 Shaker Blvd. at Belvoir Oval\, Room 108. To register for the in-person discussion\, email forums@uucleveland.org by Friday\, November 3. Indicate when you register if you aren’t available to watch the Zoom October 30\, and a link to the recording will be sent to you. It would be helpful but not mandatory to watch the program in advance. 
URL:https://uucleveland.org/uucc_event/relinquished-forum-2/
CATEGORIES:Forums,News
ATTACH;FMTTYPE=image/jpeg:https://uucleveland.org/wp-content/uploads/2023/10/2023-24-Forum-Special-Event-Politics-of-Adoption-10-30-1.jpg
END:VEVENT
END:VCALENDAR