BEGIN:VCALENDAR
VERSION:2.0
PRODID:-//Unitarian Universalist Congregation of Cleveland - ECPv6.15.20//NONSGML v1.0//EN
CALSCALE:GREGORIAN
METHOD:PUBLISH
X-WR-CALNAME:Unitarian Universalist Congregation of Cleveland
X-ORIGINAL-URL:https://uucleveland.org
X-WR-CALDESC:Events for Unitarian Universalist Congregation of Cleveland
REFRESH-INTERVAL;VALUE=DURATION:PT1H
X-Robots-Tag:noindex
X-PUBLISHED-TTL:PT1H
BEGIN:VTIMEZONE
TZID:America/New_York
BEGIN:DAYLIGHT
TZOFFSETFROM:-0500
TZOFFSETTO:-0400
TZNAME:EDT
DTSTART:20230312T070000
END:DAYLIGHT
BEGIN:STANDARD
TZOFFSETFROM:-0400
TZOFFSETTO:-0500
TZNAME:EST
DTSTART:20231105T060000
END:STANDARD
BEGIN:DAYLIGHT
TZOFFSETFROM:-0500
TZOFFSETTO:-0400
TZNAME:EDT
DTSTART:20240310T070000
END:DAYLIGHT
BEGIN:STANDARD
TZOFFSETFROM:-0400
TZOFFSETTO:-0500
TZNAME:EST
DTSTART:20241103T060000
END:STANDARD
BEGIN:DAYLIGHT
TZOFFSETFROM:-0500
TZOFFSETTO:-0400
TZNAME:EDT
DTSTART:20250309T070000
END:DAYLIGHT
BEGIN:STANDARD
TZOFFSETFROM:-0400
TZOFFSETTO:-0500
TZNAME:EST
DTSTART:20251102T060000
END:STANDARD
END:VTIMEZONE
BEGIN:VEVENT
DTSTART;TZID=America/New_York:20240407T090000
DTEND;TZID=America/New_York:20240407T100000
DTSTAMP:20260422T044818
CREATED:20231218T000441Z
LAST-MODIFIED:20240414T115421Z
UID:18239-1712480400-1712484000@uucleveland.org
SUMMARY:Immigrants: Burden\, Blessing\, Duty?
DESCRIPTION:Speakers: James Nichols\, and Dana Beveridge\, both Staff Attorneys\, Migration and Refugee Services\, Cleveland Catholic Charities.  \n\n\n\nMajor religions affirm a duty to the displaced. Our economy needs willing workers\, and we need the earnings of young workers to support our aging population. Yet the media focuses on the menace of unwelcome immigrants\, and support systems are overwhelmed by surges\, mostly from Latin America. It is not feasible for all those who’d like to move to America to do so. How should we respond?
URL:https://uucleveland.org/uucc_event/immigrants-curse-blessing-duty/
CATEGORIES:Forums
END:VEVENT
BEGIN:VEVENT
DTSTART;TZID=America/New_York:20240407T113000
DTEND;TZID=America/New_York:20240407T123000
DTSTAMP:20260422T044818
CREATED:20240404T000159Z
LAST-MODIFIED:20240404T000213Z
UID:44957-1712489400-1712493000@uucleveland.org
SUMMARY:Easter Egg Hunt
DESCRIPTION:Easter Egg Hunt! Many folks are out of town on Easter Sunday\, so we’re going to do an Egg Hunt on April 7th! During the end of the service\, our middle and high school youth will help with the hiding\, and then during YRE on 4/7 we’ll gather to hunt! We’ll have eggs to find and a special NY Times style crossword puzzle for adults to enjoy\, created by our amazing youth!
URL:https://uucleveland.org/uucc_event/easter-egg-hunt/
CATEGORIES:Community,Youth RE
END:VEVENT
END:VCALENDAR