BEGIN:VCALENDAR
VERSION:2.0
PRODID:-//Unitarian Universalist Congregation of Cleveland - ECPv6.15.20//NONSGML v1.0//EN
CALSCALE:GREGORIAN
METHOD:PUBLISH
X-ORIGINAL-URL:https://uucleveland.org
X-WR-CALDESC:Events for Unitarian Universalist Congregation of Cleveland
REFRESH-INTERVAL;VALUE=DURATION:PT1H
X-Robots-Tag:noindex
X-PUBLISHED-TTL:PT1H
BEGIN:VTIMEZONE
TZID:America/New_York
BEGIN:DAYLIGHT
TZOFFSETFROM:-0500
TZOFFSETTO:-0400
TZNAME:EDT
DTSTART:20230312T070000
END:DAYLIGHT
BEGIN:STANDARD
TZOFFSETFROM:-0400
TZOFFSETTO:-0500
TZNAME:EST
DTSTART:20231105T060000
END:STANDARD
BEGIN:DAYLIGHT
TZOFFSETFROM:-0500
TZOFFSETTO:-0400
TZNAME:EDT
DTSTART:20240310T070000
END:DAYLIGHT
BEGIN:STANDARD
TZOFFSETFROM:-0400
TZOFFSETTO:-0500
TZNAME:EST
DTSTART:20241103T060000
END:STANDARD
BEGIN:DAYLIGHT
TZOFFSETFROM:-0500
TZOFFSETTO:-0400
TZNAME:EDT
DTSTART:20250309T070000
END:DAYLIGHT
BEGIN:STANDARD
TZOFFSETFROM:-0400
TZOFFSETTO:-0500
TZNAME:EST
DTSTART:20251102T060000
END:STANDARD
END:VTIMEZONE
BEGIN:VEVENT
DTSTART;TZID=America/New_York:20240417T190000
DTEND;TZID=America/New_York:20240417T203000
DTSTAMP:20260420T055615
CREATED:20240319T005937Z
LAST-MODIFIED:20240319T005939Z
UID:44826-1713380400-1713385800@uucleveland.org
SUMMARY:Are you Considering Membership at UUCC?
DESCRIPTION:On Wednesday\, April 17th at 7 pam\, we are offering our Considering Membership class. This is for anyone – new or old – who would like to learn more about UUCC\, and membership at UUCC. The session covers a little UU background and a lot about what goes on at UUCC and how you might get involved. It’s very participatory – we’ll try our best to help you get the information you are interested in. Those who feel they are ready will be invited to join by signing the membership book (no pressure!). \n\n\n\nThe session will run 90-120 minutes. Childcare is available. \n\n\n\nYou are invited (and encouraged) to attend the Wednesday Night Community Dinner the hour before the session. \n\n\n\nCan’t make it this time? No worries\, we try to offer these sessions quarterly. \n\n\n\nIf you have any questions\, please contact Carol Gay (carolcgay75@gmail.com). \n\n\n\nPlease\, please\, please let us know you are coming! We want to be able to have adequate materials and chairs and food at dinner. \n\n\n\nRegister here: https://docs.google.com/forms/d/e/1FAIpQLSczADtzxHSVwcpnFKaISwoZ3wCmnrP1cXRsKKnnEFzZS7aGPw/viewform?usp=sf_link.
URL:https://uucleveland.org/uucc_event/are-you-considering-membership-at-uucc/
CATEGORIES:Membership
END:VEVENT
END:VCALENDAR