BEGIN:VCALENDAR
VERSION:2.0
PRODID:-//Unitarian Universalist Congregation of Cleveland - ECPv6.15.20//NONSGML v1.0//EN
CALSCALE:GREGORIAN
METHOD:PUBLISH
X-WR-CALNAME:Unitarian Universalist Congregation of Cleveland
X-ORIGINAL-URL:https://uucleveland.org
X-WR-CALDESC:Events for Unitarian Universalist Congregation of Cleveland
REFRESH-INTERVAL;VALUE=DURATION:PT1H
X-Robots-Tag:noindex
X-PUBLISHED-TTL:PT1H
BEGIN:VTIMEZONE
TZID:America/New_York
BEGIN:DAYLIGHT
TZOFFSETFROM:-0500
TZOFFSETTO:-0400
TZNAME:EDT
DTSTART:20240310T070000
END:DAYLIGHT
BEGIN:STANDARD
TZOFFSETFROM:-0400
TZOFFSETTO:-0500
TZNAME:EST
DTSTART:20241103T060000
END:STANDARD
BEGIN:DAYLIGHT
TZOFFSETFROM:-0500
TZOFFSETTO:-0400
TZNAME:EDT
DTSTART:20250309T070000
END:DAYLIGHT
BEGIN:STANDARD
TZOFFSETFROM:-0400
TZOFFSETTO:-0500
TZNAME:EST
DTSTART:20251102T060000
END:STANDARD
BEGIN:DAYLIGHT
TZOFFSETFROM:-0500
TZOFFSETTO:-0400
TZNAME:EDT
DTSTART:20260308T070000
END:DAYLIGHT
BEGIN:STANDARD
TZOFFSETFROM:-0400
TZOFFSETTO:-0500
TZNAME:EST
DTSTART:20261101T060000
END:STANDARD
END:VTIMEZONE
BEGIN:VEVENT
DTSTART;TZID=America/New_York:20250810T003000
DTEND;TZID=America/New_York:20250810T133000
DTSTAMP:20260423T042407
CREATED:20250728T223729Z
LAST-MODIFIED:20250728T223731Z
UID:49527-1754785800-1754832600@uucleveland.org
SUMMARY:Play Reading Group: 1st Meeting
DESCRIPTION:New Small group\, just getting started.Open to all \n\n\n\nWe are having our 1st organization meeting on August 10th at 12:30 in the Baker Room.If you are interested in this group\, please bring your iPad\, tablet or phone if possible. \n\n\n\nA play reading group is a gathering of people who come together to read plays aloud.  Get together with new friends for a fun time\, to read a play\, take on a character and perhaps sip a little wine. To get this group started we need a minimum of 5 people. We plan to meet regularly\, maybe monthly.  It’s a fun way to get together with others and enjoy plays. \n\n\n\nAll we need is interested\, committed people. We will meet at UUCC\, possibly in homes\, it depends on what the group decides. Access to scripts would be helpful.  If this interests you\,  or if you have questions contact Felicia Anthony felisatalk@yahoo.com. This group is open to all\, you don’t need to be a member of UUCC\, bring a friend. \n\n\n\nIf interested please sign up here
URL:https://uucleveland.org/uucc_event/play-reading-group-1st-meeting/
CATEGORIES:Community
END:VEVENT
END:VCALENDAR