BEGIN:VCALENDAR
VERSION:2.0
PRODID:-//Unitarian Universalist Congregation of Cleveland - ECPv6.15.20//NONSGML v1.0//EN
CALSCALE:GREGORIAN
METHOD:PUBLISH
X-WR-CALNAME:Unitarian Universalist Congregation of Cleveland
X-ORIGINAL-URL:https://uucleveland.org
X-WR-CALDESC:Events for Unitarian Universalist Congregation of Cleveland
REFRESH-INTERVAL;VALUE=DURATION:PT1H
X-Robots-Tag:noindex
X-PUBLISHED-TTL:PT1H
BEGIN:VTIMEZONE
TZID:America/New_York
BEGIN:DAYLIGHT
TZOFFSETFROM:-0500
TZOFFSETTO:-0400
TZNAME:EDT
DTSTART:20240310T070000
END:DAYLIGHT
BEGIN:STANDARD
TZOFFSETFROM:-0400
TZOFFSETTO:-0500
TZNAME:EST
DTSTART:20241103T060000
END:STANDARD
BEGIN:DAYLIGHT
TZOFFSETFROM:-0500
TZOFFSETTO:-0400
TZNAME:EDT
DTSTART:20250309T070000
END:DAYLIGHT
BEGIN:STANDARD
TZOFFSETFROM:-0400
TZOFFSETTO:-0500
TZNAME:EST
DTSTART:20251102T060000
END:STANDARD
BEGIN:DAYLIGHT
TZOFFSETFROM:-0500
TZOFFSETTO:-0400
TZNAME:EDT
DTSTART:20260308T070000
END:DAYLIGHT
BEGIN:STANDARD
TZOFFSETFROM:-0400
TZOFFSETTO:-0500
TZNAME:EST
DTSTART:20261101T060000
END:STANDARD
END:VTIMEZONE
BEGIN:VEVENT
DTSTART;TZID=America/New_York:20250905T113000
DTEND;TZID=America/New_York:20250905T130000
DTSTAMP:20260423T025832
CREATED:20250828T130943Z
LAST-MODIFIED:20250828T130945Z
UID:49865-1757071800-1757077200@uucleveland.org
SUMMARY:The Power of the Press
DESCRIPTION:As part of our ‘Democracy Dialogues’ Series\, please come join us for a luncheon at Munson Township Hall on September 5. 2025 for an enlightening discussion on the crucial role that local news plays in upholding our democracy. \n\n\n\nJoin our panel of local media professionals from Ideastream Public Media\, Signal Cleveland\, Chagrin Valley Times and our moderator from the Kent State University School of Journalism for a discussion about the role of local news in building and sustaining an informed citizenry\, and the impact the loss of local news outlets has on candidates\, policy and voters. \n\n\n\nPanelists – Abbey Marshall\, Ideastream; Mark Naymik\, Signal CLE; Ken Douthit\, C V Times. Moderator Prof. Gretchen Hoak of Kent St Schl of Journalism.  \n\n\n\nMunson Township Hall\, 12210 Auburn Rd.\, Chardon\, Oh.  \n\n\n\nObtain tickets\, $25.00\, at LWV Geauga web site Here
URL:https://uucleveland.org/uucc_event/the-power-of-the-press/
END:VEVENT
END:VCALENDAR