BEGIN:VCALENDAR
VERSION:2.0
PRODID:-//Unitarian Universalist Congregation of Cleveland - ECPv6.15.20//NONSGML v1.0//EN
CALSCALE:GREGORIAN
METHOD:PUBLISH
X-ORIGINAL-URL:https://uucleveland.org
X-WR-CALDESC:Events for Unitarian Universalist Congregation of Cleveland
REFRESH-INTERVAL;VALUE=DURATION:PT1H
X-Robots-Tag:noindex
X-PUBLISHED-TTL:PT1H
BEGIN:VTIMEZONE
TZID:America/New_York
BEGIN:DAYLIGHT
TZOFFSETFROM:-0500
TZOFFSETTO:-0400
TZNAME:EDT
DTSTART:20240310T070000
END:DAYLIGHT
BEGIN:STANDARD
TZOFFSETFROM:-0400
TZOFFSETTO:-0500
TZNAME:EST
DTSTART:20241103T060000
END:STANDARD
BEGIN:DAYLIGHT
TZOFFSETFROM:-0500
TZOFFSETTO:-0400
TZNAME:EDT
DTSTART:20250309T070000
END:DAYLIGHT
BEGIN:STANDARD
TZOFFSETFROM:-0400
TZOFFSETTO:-0500
TZNAME:EST
DTSTART:20251102T060000
END:STANDARD
BEGIN:DAYLIGHT
TZOFFSETFROM:-0500
TZOFFSETTO:-0400
TZNAME:EDT
DTSTART:20260308T070000
END:DAYLIGHT
BEGIN:STANDARD
TZOFFSETFROM:-0400
TZOFFSETTO:-0500
TZNAME:EST
DTSTART:20261101T060000
END:STANDARD
END:VTIMEZONE
BEGIN:VEVENT
DTSTART;TZID=America/New_York:20250906T093000
DTEND;TZID=America/New_York:20250906T133000
DTSTAMP:20260423T025908
CREATED:20250828T125956Z
LAST-MODIFIED:20250829T140655Z
UID:49863-1757151000-1757165400@uucleveland.org
SUMMARY:Protecting Democracy
DESCRIPTION:Protecting Democracy\, Sept. 6 from 9:30-1:30 at Pilgrim Congregational Church\, will be an opportunity to join the larger community in seeking to rally all progressive individuals and organizations to collaborate in developing a comprehensive strategy to combat America’s growing authoritarianism. Regardless of your specific social justice passion—whether it’s criminal justice reform\, voting rights\, fair housing\, policing\, poverty alleviation\, racism\, immigration issues\, reproductive rights\, education\, LGBTQ+ rights\, or other social justice concerns—this forum will provide us the opportunity to devise a united approach to counter creeping fascism and promote democracy. Racial Equity Buddies of Cleveland is the organizer and UUCC is one of many sponsoring organizations. Registration and more info at http://bit.ly/Sept6Forum
URL:https://uucleveland.org/uucc_event/protecting-democracy/
END:VEVENT
END:VCALENDAR