BEGIN:VCALENDAR
VERSION:2.0
PRODID:-//Unitarian Universalist Congregation of Cleveland - ECPv6.15.20//NONSGML v1.0//EN
CALSCALE:GREGORIAN
METHOD:PUBLISH
X-WR-CALNAME:Unitarian Universalist Congregation of Cleveland
X-ORIGINAL-URL:https://uucleveland.org
X-WR-CALDESC:Events for Unitarian Universalist Congregation of Cleveland
REFRESH-INTERVAL;VALUE=DURATION:PT1H
X-Robots-Tag:noindex
X-PUBLISHED-TTL:PT1H
BEGIN:VTIMEZONE
TZID:America/New_York
BEGIN:DAYLIGHT
TZOFFSETFROM:-0500
TZOFFSETTO:-0400
TZNAME:EDT
DTSTART:20240310T070000
END:DAYLIGHT
BEGIN:STANDARD
TZOFFSETFROM:-0400
TZOFFSETTO:-0500
TZNAME:EST
DTSTART:20241103T060000
END:STANDARD
BEGIN:DAYLIGHT
TZOFFSETFROM:-0500
TZOFFSETTO:-0400
TZNAME:EDT
DTSTART:20250309T070000
END:DAYLIGHT
BEGIN:STANDARD
TZOFFSETFROM:-0400
TZOFFSETTO:-0500
TZNAME:EST
DTSTART:20251102T060000
END:STANDARD
BEGIN:DAYLIGHT
TZOFFSETFROM:-0500
TZOFFSETTO:-0400
TZNAME:EDT
DTSTART:20260308T070000
END:DAYLIGHT
BEGIN:STANDARD
TZOFFSETFROM:-0400
TZOFFSETTO:-0500
TZNAME:EST
DTSTART:20261101T060000
END:STANDARD
END:VTIMEZONE
BEGIN:VEVENT
DTSTART;TZID=America/New_York:20250919T183000
DTEND;TZID=America/New_York:20250919T183000
DTSTAMP:20260423T014204
CREATED:20250911T183440Z
LAST-MODIFIED:20250911T202811Z
UID:50170-1758306600-1758306600@uucleveland.org
SUMMARY:Movie with a Sparkle in a Bottle
DESCRIPTION:Presented by the Youth Academy of UUCC \n\n\n\nJoin us for an evening of creativity\, connection\, and celebration! We’re bringing together LGBTQ+ youth and allies (ages 12–18) for a night that shines—literally and figuratively. \n\n\n\n First\, tap into your inner calm by crafting your own mindfulness glitter bottle—a sparkling tool for reflection and relaxation.  Then\, settle in for a screening of The Prom\, a heartwarming comedy where Broadway stars rally to help a teen take her girlfriend to prom. It’s joyful\, affirming\, and full of sparkle. \n\n\n\nThis event is designed to be a safe\, supportive space where youth can be themselves\, meet new friends\, and enjoy a night of laughter and light. \n\n\n\nDate: Friday\, September 19\, 2025 \n\n\n\nTime: 6:30–10:00 PMLocation: 21600 Shaker Blvd.Register: Contact Valerie Hura\, Youth Academy CoordinatorEmail: valerie.hura@uucleveland.org
URL:https://uucleveland.org/uucc_event/movie-with-a-sparkle-in-a-bottle/
END:VEVENT
END:VCALENDAR