BEGIN:VCALENDAR
VERSION:2.0
PRODID:-//Unitarian Universalist Congregation of Cleveland - ECPv6.15.20//NONSGML v1.0//EN
CALSCALE:GREGORIAN
METHOD:PUBLISH
X-WR-CALNAME:Unitarian Universalist Congregation of Cleveland
X-ORIGINAL-URL:https://uucleveland.org
X-WR-CALDESC:Events for Unitarian Universalist Congregation of Cleveland
REFRESH-INTERVAL;VALUE=DURATION:PT1H
X-Robots-Tag:noindex
X-PUBLISHED-TTL:PT1H
BEGIN:VTIMEZONE
TZID:America/New_York
BEGIN:DAYLIGHT
TZOFFSETFROM:-0500
TZOFFSETTO:-0400
TZNAME:EDT
DTSTART:20240310T070000
END:DAYLIGHT
BEGIN:STANDARD
TZOFFSETFROM:-0400
TZOFFSETTO:-0500
TZNAME:EST
DTSTART:20241103T060000
END:STANDARD
BEGIN:DAYLIGHT
TZOFFSETFROM:-0500
TZOFFSETTO:-0400
TZNAME:EDT
DTSTART:20250309T070000
END:DAYLIGHT
BEGIN:STANDARD
TZOFFSETFROM:-0400
TZOFFSETTO:-0500
TZNAME:EST
DTSTART:20251102T060000
END:STANDARD
BEGIN:DAYLIGHT
TZOFFSETFROM:-0500
TZOFFSETTO:-0400
TZNAME:EDT
DTSTART:20260308T070000
END:DAYLIGHT
BEGIN:STANDARD
TZOFFSETFROM:-0400
TZOFFSETTO:-0500
TZNAME:EST
DTSTART:20261101T060000
END:STANDARD
END:VTIMEZONE
BEGIN:VEVENT
DTSTART;TZID=America/New_York:20250928T113000
DTEND;TZID=America/New_York:20250928T123000
DTSTAMP:20260423T025834
CREATED:20250917T215131Z
LAST-MODIFIED:20250917T224355Z
UID:50234-1759059000-1759062600@uucleveland.org
SUMMARY:UUCC Focus Group Meeting (with childcare)
DESCRIPTION:Join us for a short presentation\, Q&A\, and discussion as we shape a vision for our congregation’s future. Please attend one session to share your voice.\n\n\n\nWorship Center (Rooms 206/208) in the Shaker Building\n\n\n\nDetails: uucleveland.org/uucc-focus-groups\n\n\n\nChildcare is available at this session.
URL:https://uucleveland.org/uucc_event/uucc-focus-group-meeting-with-childcare/
CATEGORIES:Community,Congregational Event,Congregational Matters,News
ATTACH;FMTTYPE=image/jpeg:https://uucleveland.org/wp-content/uploads/2025/09/UUCCs-Facilities-Focus-Group-Meetings-43.jpg
END:VEVENT
BEGIN:VEVENT
DTSTART;TZID=America/New_York:20250928T133000
DTEND;TZID=America/New_York:20250928T153000
DTSTAMP:20260423T025834
CREATED:20250828T125213Z
LAST-MODIFIED:20250828T125216Z
UID:49861-1759066200-1759073400@uucleveland.org
SUMMARY:Fall Fun Fest at UUCC
DESCRIPTION:UUs Together invites you and your family to a Fall Fun Fest at UUCC on Sunday September 28 from 1:30-3:30pm. Activities will include: Fun Table with crafts (make your own beaded bracelet and more)\, tour/scavenger hunt (check out the orchard\, permaculture gardens\, cisterns\, and more)\, a “speed” social mixer\, and multigenerational field day games. Purchase your afternoon treat at the East Coast Custard Truck on site ($5 for cone\, $6 for sundae; vanilla\, chocolate\, butter pecan\, and vegan peach berry). We also will have something special for our gluten free friends. Meet old friends and new from 4 congregations: UU Congregation of Cleveland\, SouthWest UU\, West Shore UU\, and East Shore UU. We are also inviting our neighbors. Help us create the community we want and need by your presence!
URL:https://uucleveland.org/uucc_event/fall-fun-fest-at-uucc/
END:VEVENT
END:VCALENDAR