BEGIN:VCALENDAR
VERSION:2.0
PRODID:-//Unitarian Universalist Congregation of Cleveland - ECPv6.15.20//NONSGML v1.0//EN
CALSCALE:GREGORIAN
METHOD:PUBLISH
X-WR-CALNAME:Unitarian Universalist Congregation of Cleveland
X-ORIGINAL-URL:https://uucleveland.org
X-WR-CALDESC:Events for Unitarian Universalist Congregation of Cleveland
REFRESH-INTERVAL;VALUE=DURATION:PT1H
X-Robots-Tag:noindex
X-PUBLISHED-TTL:PT1H
BEGIN:VTIMEZONE
TZID:America/New_York
BEGIN:DAYLIGHT
TZOFFSETFROM:-0500
TZOFFSETTO:-0400
TZNAME:EDT
DTSTART:20240310T070000
END:DAYLIGHT
BEGIN:STANDARD
TZOFFSETFROM:-0400
TZOFFSETTO:-0500
TZNAME:EST
DTSTART:20241103T060000
END:STANDARD
BEGIN:DAYLIGHT
TZOFFSETFROM:-0500
TZOFFSETTO:-0400
TZNAME:EDT
DTSTART:20250309T070000
END:DAYLIGHT
BEGIN:STANDARD
TZOFFSETFROM:-0400
TZOFFSETTO:-0500
TZNAME:EST
DTSTART:20251102T060000
END:STANDARD
BEGIN:DAYLIGHT
TZOFFSETFROM:-0500
TZOFFSETTO:-0400
TZNAME:EDT
DTSTART:20260308T070000
END:DAYLIGHT
BEGIN:STANDARD
TZOFFSETFROM:-0400
TZOFFSETTO:-0500
TZNAME:EST
DTSTART:20261101T060000
END:STANDARD
END:VTIMEZONE
BEGIN:VEVENT
DTSTART;TZID=America/New_York:20251003T183000
DTEND;TZID=America/New_York:20251003T210000
DTSTAMP:20260423T003133
CREATED:20250927T150325Z
LAST-MODIFIED:20250927T151303Z
UID:50385-1759516200-1759525200@uucleveland.org
SUMMARY:Cleveland Community Chorus Festival
DESCRIPTION:Join us on Friday\, October 3rd for this fun and FREE event for singers of all ages! Participants will learn new vocal techniques\, meet some amazing people\, and sing great music together! Come at 6:30 pm to participate fully or at 8:15 pm to enjoy a mini-concert in the UUCC Sanctuary. Featured guests will be:Good Company: A Vocal Ensemble (Mike Carney\, director)The Singers’ Club of Cleveland (Christopher Clark\, director)Windsong: Cleveland’s Feminist Chorus (Jessica Gallagher-Steuver\, director)
URL:https://uucleveland.org/uucc_event/cleveland-community-chorus-festival/
LOCATION:Unitarian Universalist Congregation of Cleveland\, 21600 Shaker Boulevard\, Shaker Heights\, 44120\, United States
END:VEVENT
END:VCALENDAR