BEGIN:VCALENDAR
VERSION:2.0
PRODID:-//Unitarian Universalist Congregation of Cleveland - ECPv6.15.20//NONSGML v1.0//EN
CALSCALE:GREGORIAN
METHOD:PUBLISH
X-ORIGINAL-URL:https://uucleveland.org
X-WR-CALDESC:Events for Unitarian Universalist Congregation of Cleveland
REFRESH-INTERVAL;VALUE=DURATION:PT1H
X-Robots-Tag:noindex
X-PUBLISHED-TTL:PT1H
BEGIN:VTIMEZONE
TZID:America/New_York
BEGIN:DAYLIGHT
TZOFFSETFROM:-0500
TZOFFSETTO:-0400
TZNAME:EDT
DTSTART:20240310T070000
END:DAYLIGHT
BEGIN:STANDARD
TZOFFSETFROM:-0400
TZOFFSETTO:-0500
TZNAME:EST
DTSTART:20241103T060000
END:STANDARD
BEGIN:DAYLIGHT
TZOFFSETFROM:-0500
TZOFFSETTO:-0400
TZNAME:EDT
DTSTART:20250309T070000
END:DAYLIGHT
BEGIN:STANDARD
TZOFFSETFROM:-0400
TZOFFSETTO:-0500
TZNAME:EST
DTSTART:20251102T060000
END:STANDARD
BEGIN:DAYLIGHT
TZOFFSETFROM:-0500
TZOFFSETTO:-0400
TZNAME:EDT
DTSTART:20260308T070000
END:DAYLIGHT
BEGIN:STANDARD
TZOFFSETFROM:-0400
TZOFFSETTO:-0500
TZNAME:EST
DTSTART:20261101T060000
END:STANDARD
END:VTIMEZONE
BEGIN:VEVENT
DTSTART;TZID=America/New_York:20251007T120000
DTEND;TZID=America/New_York:20251007T140000
DTSTAMP:20260423T003217
CREATED:20250918T012953Z
LAST-MODIFIED:20250918T012955Z
UID:50257-1759838400-1759845600@uucleveland.org
SUMMARY:Lunch Bunch
DESCRIPTION:This is a group for anyone who enjoys eating out at local restaurants for lunch during the week. We welcome all adults\, any age\, gender\, single\, partnered\, etc. Each person must register separately. \n\n\n\nThis group will gather on the 1st Tuesday of each month at Noon. Feel free to suggest locations when you sign up! The group will come up with a list of restaurants to enjoy together. For information\, please contact Sharon Marrell at sharonmarrell@sbcglobal.net.Sign up: https://www.signupgenius.com/go/10C0C44AFA62CA5FAC43-57575416-lunch
URL:https://uucleveland.org/uucc_event/lunch-bunch/
CATEGORIES:Small Group
END:VEVENT
BEGIN:VEVENT
DTSTART;TZID=America/New_York:20251007T190000
DTEND;TZID=America/New_York:20251007T200000
DTSTAMP:20260423T003217
CREATED:20250917T224019Z
LAST-MODIFIED:20250917T224355Z
UID:50228-1759863600-1759867200@uucleveland.org
SUMMARY:UUCC Focus Group Meeting
DESCRIPTION:Join us for a short presentation\, Q&A\, and discussion as we shape a vision for our congregation’s future. Please attend one session to share your voice.\n\n\n\nFellowship Hall in the Shaker Building\n\n\n\nDetails: uucleveland.org/uucc-focus-groups
URL:https://uucleveland.org/uucc_event/uucc-focus-group-meeting-6/
CATEGORIES:Community,Congregational Event,Congregational Matters,News
ATTACH;FMTTYPE=image/jpeg:https://uucleveland.org/wp-content/uploads/2025/09/UUCCs-Facilities-Focus-Group-Meetings-43.jpg
END:VEVENT
END:VCALENDAR