BEGIN:VCALENDAR
VERSION:2.0
PRODID:-//Unitarian Universalist Congregation of Cleveland - ECPv6.15.20//NONSGML v1.0//EN
CALSCALE:GREGORIAN
METHOD:PUBLISH
X-WR-CALNAME:Unitarian Universalist Congregation of Cleveland
X-ORIGINAL-URL:https://uucleveland.org
X-WR-CALDESC:Events for Unitarian Universalist Congregation of Cleveland
REFRESH-INTERVAL;VALUE=DURATION:PT1H
X-Robots-Tag:noindex
X-PUBLISHED-TTL:PT1H
BEGIN:VTIMEZONE
TZID:America/New_York
BEGIN:DAYLIGHT
TZOFFSETFROM:-0500
TZOFFSETTO:-0400
TZNAME:EDT
DTSTART:20240310T070000
END:DAYLIGHT
BEGIN:STANDARD
TZOFFSETFROM:-0400
TZOFFSETTO:-0500
TZNAME:EST
DTSTART:20241103T060000
END:STANDARD
BEGIN:DAYLIGHT
TZOFFSETFROM:-0500
TZOFFSETTO:-0400
TZNAME:EDT
DTSTART:20250309T070000
END:DAYLIGHT
BEGIN:STANDARD
TZOFFSETFROM:-0400
TZOFFSETTO:-0500
TZNAME:EST
DTSTART:20251102T060000
END:STANDARD
BEGIN:DAYLIGHT
TZOFFSETFROM:-0500
TZOFFSETTO:-0400
TZNAME:EDT
DTSTART:20260308T070000
END:DAYLIGHT
BEGIN:STANDARD
TZOFFSETFROM:-0400
TZOFFSETTO:-0500
TZNAME:EST
DTSTART:20261101T060000
END:STANDARD
END:VTIMEZONE
BEGIN:VEVENT
DTSTART;TZID=America/New_York:20251009T113000
DTEND;TZID=America/New_York:20251009T123000
DTSTAMP:20260423T003129
CREATED:20250917T224131Z
LAST-MODIFIED:20250917T224354Z
UID:50230-1760009400-1760013000@uucleveland.org
SUMMARY:UUCC Focus Group Meeting (with childcare)
DESCRIPTION:Join us for a short presentation\, Q&A\, and discussion as we shape a vision for our congregation’s future. Please attend one session to share your voice.\n\n\n\nFellowship Hall in the Shaker Building\n\n\n\nDetails: uucleveland.org/uucc-focus-groups\n\n\n\nChildcare is available at this session.
URL:https://uucleveland.org/uucc_event/uucc-focus-group-meeting-with-childcare-3/
CATEGORIES:Community,Congregational Event,Congregational Matters,News
ATTACH;FMTTYPE=image/jpeg:https://uucleveland.org/wp-content/uploads/2025/09/UUCCs-Facilities-Focus-Group-Meetings-43.jpg
END:VEVENT
BEGIN:VEVENT
DTSTART;TZID=America/New_York:20251009T190000
DTEND;TZID=America/New_York:20251009T203000
DTSTAMP:20260423T003129
CREATED:20250925T133425Z
LAST-MODIFIED:20250925T133427Z
UID:50367-1760036400-1760041800@uucleveland.org
SUMMARY:GCC Action Alert: Pretrial Municipal Court Candidate Forum
DESCRIPTION:Greater Cleveland Congregation is just weeks away from its October 9th Pretrial Justice Action at Antioch Baptist Church. Join GCC’s Pretrial Justice Team for a critical community forum on Cleveland’s broken pretrial system. Too many lives are damaged when people are sentenced before being charged\, sitting in jail for days before trial. It’s time for a change. All 8 judicial Cleveland Municipal Court (General Division) candidates are invited to attend\, participate\, and respond on how they plan to do better. Candidates will share their vision\, answer key questions\, and commit to ensuring justice in our courts. And candidates are eager to show up — we already have 6 confirmed. Now it’s our turn to do the same. To hold them accountable\, we must ensure strong turnout from UUCC! \n\n\n\nPlease register here and thank you: \n\n\n\nhttps://docs.google.com/forms/d/e/1FAIpQLSfG9fD2QyDEWb3P81vL25NU-utmPNKFb_rwJtF7l9HlmiIviw/viewform
URL:https://uucleveland.org/uucc_event/gcc-action-alert-pretrial-municipal-court-candidate-forum/
END:VEVENT
END:VCALENDAR