BEGIN:VCALENDAR
VERSION:2.0
PRODID:-//Unitarian Universalist Congregation of Cleveland - ECPv6.15.20//NONSGML v1.0//EN
CALSCALE:GREGORIAN
METHOD:PUBLISH
X-WR-CALNAME:Unitarian Universalist Congregation of Cleveland
X-ORIGINAL-URL:https://uucleveland.org
X-WR-CALDESC:Events for Unitarian Universalist Congregation of Cleveland
REFRESH-INTERVAL;VALUE=DURATION:PT1H
X-Robots-Tag:noindex
X-PUBLISHED-TTL:PT1H
BEGIN:VTIMEZONE
TZID:America/New_York
BEGIN:DAYLIGHT
TZOFFSETFROM:-0500
TZOFFSETTO:-0400
TZNAME:EDT
DTSTART:20240310T070000
END:DAYLIGHT
BEGIN:STANDARD
TZOFFSETFROM:-0400
TZOFFSETTO:-0500
TZNAME:EST
DTSTART:20241103T060000
END:STANDARD
BEGIN:DAYLIGHT
TZOFFSETFROM:-0500
TZOFFSETTO:-0400
TZNAME:EDT
DTSTART:20250309T070000
END:DAYLIGHT
BEGIN:STANDARD
TZOFFSETFROM:-0400
TZOFFSETTO:-0500
TZNAME:EST
DTSTART:20251102T060000
END:STANDARD
BEGIN:DAYLIGHT
TZOFFSETFROM:-0500
TZOFFSETTO:-0400
TZNAME:EDT
DTSTART:20260308T070000
END:DAYLIGHT
BEGIN:STANDARD
TZOFFSETFROM:-0400
TZOFFSETTO:-0500
TZNAME:EST
DTSTART:20261101T060000
END:STANDARD
END:VTIMEZONE
BEGIN:VEVENT
DTSTART;TZID=America/New_York:20251012T113000
DTEND;TZID=America/New_York:20251012T130000
DTSTAMP:20260423T003131
CREATED:20251001T160839Z
LAST-MODIFIED:20251001T160841Z
UID:50415-1760268600-1760274000@uucleveland.org
SUMMARY:Community Conversation: Democracy at risk\, what can we do?
DESCRIPTION:In addition to Harry’s Kitchen’s wonderful food and community Pot luck treasures UUCC’s newly formed Democracy in Action team will be leading our Community Conversation. While our UUCC community is focusing on our buildings and grounds capital campaign\, many of us find the challenges to democracy in our country are also weighing heavily on our hearts and minds. Our conversation today will focus on the Challenges our country is facing and talk about what we may be called to do in the face of these challenges.
URL:https://uucleveland.org/uucc_event/community-conversation-democracy-at-risk-what-can-we-do/
END:VEVENT
BEGIN:VEVENT
DTSTART;TZID=America/New_York:20251012T113000
DTEND;TZID=America/New_York:20251012T130000
DTSTAMP:20260423T003131
CREATED:20251009T215401Z
LAST-MODIFIED:20251010T120912Z
UID:50283-1760268600-1760274000@uucleveland.org
SUMMARY:October 2025 2nd Sunday Meal Kitchen Crew +Potluck
DESCRIPTION:“For your Fall & Halloween Delight\, Harry’s Kitchen Crew is glad to provide the following Main Entrees to tickle your taste buds:Roasted Lemon Chicken and Butternut Squash Soup. \n\n\n\nThe congregation member(s) with last name that begins with letter A thru K can share a SALAD/SIDE dish for 8 people.ANDThe congregation member(s) with last name that begins with letter L thru Z can share a DESSERT dish for 8 people. \n\n\n\nYou can drop off your shared dish at the Kitchen Window and the Crew will tag & place on the tables in the Fellowship Hall. \n\n\n\nAs an added surprise\, Harry’s Kitchen Crew was asked to prepare\, provide and serve at this year’s UUCC Church Auction event on Saturday Night\, November 1st. So\, we are going to provide a preview of a few tasting morsels. \n\n\n\nWe all look forward to seeing you on Sunday\, October 12th. \n\n\n\nThese frightful delights are brought to you by scaring Harry’s Kitchen Crew.” \n\n\n\nWhether you bring a dish or just yourself\, you are always welcome at the table. And if you’re able\, please lend a hand afterward with putting away tables and chairs in Fellowship Hall—it makes a big difference!
URL:https://uucleveland.org/uucc_event/202510-2nd-sunday-meal/
CATEGORIES:Community,Congregational Event,News
END:VEVENT
BEGIN:VEVENT
DTSTART;TZID=America/New_York:20251012T143000
DTEND;TZID=America/New_York:20251012T143000
DTSTAMP:20260423T003131
CREATED:20250925T135419Z
LAST-MODIFIED:20250925T135421Z
UID:50369-1760279400-1760279400@uucleveland.org
SUMMARY:The Cleveland Memorial Society Annual Meeting
DESCRIPTION:The Cleveland Memorial Society Annual meeting in Fellowship Hall. Come hear Sandy and Laurie speak on Life’s Final Chapter–a thoughtful conversation and information session about all that goes into being prepared in a way that is meaningful\, peaceful\, and true to oneself and one’s loved ones.
URL:https://uucleveland.org/uucc_event/the-cleveland-memorial-society-annual-meeting/
END:VEVENT
END:VCALENDAR