BEGIN:VCALENDAR
VERSION:2.0
PRODID:-//Unitarian Universalist Congregation of Cleveland - ECPv6.15.20//NONSGML v1.0//EN
CALSCALE:GREGORIAN
METHOD:PUBLISH
X-WR-CALNAME:Unitarian Universalist Congregation of Cleveland
X-ORIGINAL-URL:https://uucleveland.org
X-WR-CALDESC:Events for Unitarian Universalist Congregation of Cleveland
REFRESH-INTERVAL;VALUE=DURATION:PT1H
X-Robots-Tag:noindex
X-PUBLISHED-TTL:PT1H
BEGIN:VTIMEZONE
TZID:America/New_York
BEGIN:DAYLIGHT
TZOFFSETFROM:-0500
TZOFFSETTO:-0400
TZNAME:EDT
DTSTART:20240310T070000
END:DAYLIGHT
BEGIN:STANDARD
TZOFFSETFROM:-0400
TZOFFSETTO:-0500
TZNAME:EST
DTSTART:20241103T060000
END:STANDARD
BEGIN:DAYLIGHT
TZOFFSETFROM:-0500
TZOFFSETTO:-0400
TZNAME:EDT
DTSTART:20250309T070000
END:DAYLIGHT
BEGIN:STANDARD
TZOFFSETFROM:-0400
TZOFFSETTO:-0500
TZNAME:EST
DTSTART:20251102T060000
END:STANDARD
BEGIN:DAYLIGHT
TZOFFSETFROM:-0500
TZOFFSETTO:-0400
TZNAME:EDT
DTSTART:20260308T070000
END:DAYLIGHT
BEGIN:STANDARD
TZOFFSETFROM:-0400
TZOFFSETTO:-0500
TZNAME:EST
DTSTART:20261101T060000
END:STANDARD
END:VTIMEZONE
BEGIN:VEVENT
DTSTART;TZID=America/New_York:20251017T183000
DTEND;TZID=America/New_York:20251017T220000
DTSTAMP:20260423T003101
CREATED:20250925T132901Z
LAST-MODIFIED:20251001T201341Z
UID:50365-1760725800-1760738400@uucleveland.org
SUMMARY:LGBTQ+ Youth and Youth Allies Night Drum Circle and Karaoke
DESCRIPTION:🎶 LGBTQ+ Youth and Youth Allies Night: Drum Circle & Karaoke! 🎤 The Youth Academy of UUCC is thrilled to partner with Trust Drum Circles to host an evening of rhythm\, music\, and connection for LGBTQ+ youth and youth allies. This special event is designed to foster joy\, growth\, and a deep sense of belonging. After the community drum circle\, we’ll keep the good vibes going with a laid-back karaoke night—complete with snacks and space to relax and connect. \n\n\n\n\nEvent Details:What: Community Drum Circle & Karaoke NightWhen: Friday\, October 17\, 2025 | 6:30–10:00 PMWho: LGBTQ+ Youth & Youth Allies (ages 12–18)Where: 21600 Shaker Blvd\, Shaker Hts. Ohio \n\n\n\n\n\n\n\n\nHow to Register: Email Valerie Hura\, Youth Academy Coordinator\, at valerie.hura@uucleveland.org \n\n\n\n Why It Matters: LGBTQ+ Youth Night is a ministry of UUCC that offers a welcoming space for youth to gather\, explore\, learn\, and have fun. We proudly support not only UUCC youth but also young people from across the Greater Cleveland community. \n\n\n\nIf you know someone between the ages of 12 and 18 who might enjoy this evening\, please invite them to join us. As our Youth Academy kids like to say: “Be a croissant\, not a bagel”—leave space and welcome others in.
URL:https://uucleveland.org/uucc_event/lgbtq-youth-and-youth-allies-night-drum-circle-and-karaoke/
END:VEVENT
END:VCALENDAR