BEGIN:VCALENDAR
VERSION:2.0
PRODID:-//Unitarian Universalist Congregation of Cleveland - ECPv6.15.20//NONSGML v1.0//EN
CALSCALE:GREGORIAN
METHOD:PUBLISH
X-WR-CALNAME:Unitarian Universalist Congregation of Cleveland
X-ORIGINAL-URL:https://uucleveland.org
X-WR-CALDESC:Events for Unitarian Universalist Congregation of Cleveland
REFRESH-INTERVAL;VALUE=DURATION:PT1H
X-Robots-Tag:noindex
X-PUBLISHED-TTL:PT1H
BEGIN:VTIMEZONE
TZID:America/New_York
BEGIN:DAYLIGHT
TZOFFSETFROM:-0500
TZOFFSETTO:-0400
TZNAME:EDT
DTSTART:20240310T070000
END:DAYLIGHT
BEGIN:STANDARD
TZOFFSETFROM:-0400
TZOFFSETTO:-0500
TZNAME:EST
DTSTART:20241103T060000
END:STANDARD
BEGIN:DAYLIGHT
TZOFFSETFROM:-0500
TZOFFSETTO:-0400
TZNAME:EDT
DTSTART:20250309T070000
END:DAYLIGHT
BEGIN:STANDARD
TZOFFSETFROM:-0400
TZOFFSETTO:-0500
TZNAME:EST
DTSTART:20251102T060000
END:STANDARD
BEGIN:DAYLIGHT
TZOFFSETFROM:-0500
TZOFFSETTO:-0400
TZNAME:EDT
DTSTART:20260308T070000
END:DAYLIGHT
BEGIN:STANDARD
TZOFFSETFROM:-0400
TZOFFSETTO:-0500
TZNAME:EST
DTSTART:20261101T060000
END:STANDARD
END:VTIMEZONE
BEGIN:VEVENT
DTSTART;TZID=America/New_York:20251025T140000
DTEND;TZID=America/New_York:20251025T140000
DTSTAMP:20260423T003133
CREATED:20251002T140552Z
LAST-MODIFIED:20251002T140554Z
UID:50443-1761400800-1761400800@uucleveland.org
SUMMARY:The God I Know: A Theatre Edutainment Experience
DESCRIPTION:Join us for The God I Know\, an Inclusion & Belonging Edutainment experience that explores the intersection of personal identity\, religion\, freedom of speech\, and separation of church and state. \n\n\n\nThe play is timely in its theatrical storytelling as Christian Nationalism is being introduced into our society.  You won’t want to miss this opportunity for coming together to turn us and them into WE. \n\n\n\nTicket Options:\n\n\n\nReserved $25 | General $20
URL:https://uucleveland.org/uucc_event/the-god-i-know-a-theatre-edutainment-experience-2/
LOCATION:Unitarian Universalist Congregation of Cleveland\, 21600 Shaker Boulevard\, Shaker Heights\, 44120\, United States
END:VEVENT
BEGIN:VEVENT
DTSTART;TZID=America/New_York:20251025T140000
DTEND;TZID=America/New_York:20251025T140000
DTSTAMP:20260423T003133
CREATED:20251016T154505Z
LAST-MODIFIED:20251016T154507Z
UID:50495-1761400800-1761400800@uucleveland.org
SUMMARY:FaCT Distinguished Speaker\, Ståle Holgersen
DESCRIPTION:FaCT Distinguished Speaker Series presents Ståle Holgersen a Senior Lecturer in Human Geography at Stockholm University. He delves into today’s economic and ecological crises to demonstrate that they are not exceptions to an otherwise functioning system but integral to its operation. It is naive to see these upheavals as opportunities for reform or revolution. They are the bedrock of the status quo. Fortunately\, the vicious circle sustaining capitalism is not founded on an iron law. Our historical mission in the face of the climate crisis is to create an historical exception to the rule. It is time for a new system to deal with the crisis.Register atfactsustain.org/distinguished
URL:https://uucleveland.org/uucc_event/fact-distinguished-speaker-stale-holgersen/
END:VEVENT
END:VCALENDAR