BEGIN:VCALENDAR
VERSION:2.0
PRODID:-//Unitarian Universalist Congregation of Cleveland - ECPv6.15.20//NONSGML v1.0//EN
CALSCALE:GREGORIAN
METHOD:PUBLISH
X-ORIGINAL-URL:https://uucleveland.org
X-WR-CALDESC:Events for Unitarian Universalist Congregation of Cleveland
REFRESH-INTERVAL;VALUE=DURATION:PT1H
X-Robots-Tag:noindex
X-PUBLISHED-TTL:PT1H
BEGIN:VTIMEZONE
TZID:America/New_York
BEGIN:DAYLIGHT
TZOFFSETFROM:-0500
TZOFFSETTO:-0400
TZNAME:EDT
DTSTART:20240310T070000
END:DAYLIGHT
BEGIN:STANDARD
TZOFFSETFROM:-0400
TZOFFSETTO:-0500
TZNAME:EST
DTSTART:20241103T060000
END:STANDARD
BEGIN:DAYLIGHT
TZOFFSETFROM:-0500
TZOFFSETTO:-0400
TZNAME:EDT
DTSTART:20250309T070000
END:DAYLIGHT
BEGIN:STANDARD
TZOFFSETFROM:-0400
TZOFFSETTO:-0500
TZNAME:EST
DTSTART:20251102T060000
END:STANDARD
BEGIN:DAYLIGHT
TZOFFSETFROM:-0500
TZOFFSETTO:-0400
TZNAME:EDT
DTSTART:20260308T070000
END:DAYLIGHT
BEGIN:STANDARD
TZOFFSETFROM:-0400
TZOFFSETTO:-0500
TZNAME:EST
DTSTART:20261101T060000
END:STANDARD
END:VTIMEZONE
BEGIN:VEVENT
DTSTART;TZID=America/New_York:20251026T113000
DTEND;TZID=America/New_York:20251026T113000
DTSTAMP:20260423T003213
CREATED:20251001T200222Z
LAST-MODIFIED:20251023T171526Z
UID:50422-1761478200-1761478200@uucleveland.org
SUMMARY:UUCC Ministry Meet and Greet
DESCRIPTION:Looking for ways to get involved in church life? The UUCC ministry fair is a one-stop shop for everyone to discover the various ministries and small groups offered\, our congregation engages in a multitude of creative ministry and community efforts\, Discover the many opportunities to get involved\, connect with others\, and utilize your gifts and talents to serve others! \n\n\n\n\n \n\n\n\nMinistry Leaders contact Amy Collins amymcollins@sbcglobal.net or Sharon Edmond sharon.edmond@uucleveland.org to promote your ministries.
URL:https://uucleveland.org/uucc_event/uucc-ministry-meet-and-greet/
END:VEVENT
BEGIN:VEVENT
DTSTART;TZID=America/New_York:20251026T113000
DTEND;TZID=America/New_York:20251026T123000
DTSTAMP:20260423T003213
CREATED:20251013T005707Z
LAST-MODIFIED:20251014T221040Z
UID:50462-1761478200-1761481800@uucleveland.org
SUMMARY:Fall 2025 Path to Membership Class\, Session 2
DESCRIPTION:If you’ve been planning on joining UUCC\, now’s the time! Our three session Considering Membership class starts on Sunday\, October 19. During this time\, you’ll learn some UU and UUCC history\, ways to get involved\, and the rights and responsibilities of membership. RSVP here (using link I previously sent). If you have questions\, reach out to Membership Committee chair\, Liz Kantor at Liz.h.kantor@gmail.com \n\n\n\nRSVP here
URL:https://uucleveland.org/uucc_event/fall-2025-path-to-membership-class-session-2/
CATEGORIES:Community,Membership,News
ATTACH;FMTTYPE=image/jpeg:https://uucleveland.org/wp-content/uploads/2025/10/Copy-of-UUCC-Banner-1200-x-600.jpg
END:VEVENT
END:VCALENDAR