BEGIN:VCALENDAR
VERSION:2.0
PRODID:-//Unitarian Universalist Congregation of Cleveland - ECPv6.15.20//NONSGML v1.0//EN
CALSCALE:GREGORIAN
METHOD:PUBLISH
X-ORIGINAL-URL:https://uucleveland.org
X-WR-CALDESC:Events for Unitarian Universalist Congregation of Cleveland
REFRESH-INTERVAL;VALUE=DURATION:PT1H
X-Robots-Tag:noindex
X-PUBLISHED-TTL:PT1H
BEGIN:VTIMEZONE
TZID:America/New_York
BEGIN:DAYLIGHT
TZOFFSETFROM:-0500
TZOFFSETTO:-0400
TZNAME:EDT
DTSTART:20240310T070000
END:DAYLIGHT
BEGIN:STANDARD
TZOFFSETFROM:-0400
TZOFFSETTO:-0500
TZNAME:EST
DTSTART:20241103T060000
END:STANDARD
BEGIN:DAYLIGHT
TZOFFSETFROM:-0500
TZOFFSETTO:-0400
TZNAME:EDT
DTSTART:20250309T070000
END:DAYLIGHT
BEGIN:STANDARD
TZOFFSETFROM:-0400
TZOFFSETTO:-0500
TZNAME:EST
DTSTART:20251102T060000
END:STANDARD
BEGIN:DAYLIGHT
TZOFFSETFROM:-0500
TZOFFSETTO:-0400
TZNAME:EDT
DTSTART:20260308T070000
END:DAYLIGHT
BEGIN:STANDARD
TZOFFSETFROM:-0400
TZOFFSETTO:-0500
TZNAME:EST
DTSTART:20261101T060000
END:STANDARD
END:VTIMEZONE
BEGIN:VEVENT
DTSTART;TZID=America/New_York:20251116T090000
DTEND;TZID=America/New_York:20251116T100000
DTSTAMP:20260422T230631
CREATED:20250907T010654Z
LAST-MODIFIED:20250913T215255Z
UID:50018-1763283600-1763287200@uucleveland.org
SUMMARY:Confronting Authoritarianism
DESCRIPTION:Speaker: Cherie Strachan\, PhD\, Professor of Political Science and Director of the Ray C. Bliss Institute of Applied Politics \n\n\n\nHistory shows a familiar pattern: regimes weaken the press\, universities and courts in the guise of protecting the public while amassing ever greater personal power. While some citizens are willing to trade freedom for promised security; others just feel helpless. But is that helplessness real? What power do we truly have\, and what actions can drive real governmental change? \n\n\n\nIn person in Fellowship Hallor via Zoom https://bit.ly/UUCCForumsFall2025.
URL:https://uucleveland.org/uucc_event/confronting-authoritarianism/
CATEGORIES:Forums,News
ATTACH;FMTTYPE=image/jpeg:https://uucleveland.org/wp-content/uploads/2025/09/20251116-Confronting-Authoritarianism.jpg
END:VEVENT
BEGIN:VEVENT
DTSTART;TZID=America/New_York:20251116T114000
DTEND;TZID=America/New_York:20251116T124000
DTSTAMP:20260422T230631
CREATED:20251030T131339Z
LAST-MODIFIED:20251030T131341Z
UID:50602-1763293200-1763296800@uucleveland.org
SUMMARY:Learning\, Leading & Loving It - LDC: Making Sense of the Google Suite at UUCC
DESCRIPTION:Learning\, Leading and Loving It!The Google Suite at UUCCSunday\, November 16\, 11:40 amand Thursday\, December 4\, 7 pm on ZOOM \n\n\n\nThe Leadership Development Committee at UUCC is holding learning sessions for current and potential leaders in the congregation. Most will be held in-person following a Sunday Service. The sessions will last an hour and include some learnings presented by congregation leaders\, followed by sharing amongst the participants. \n\n\n\nConfused about Google Drive? Google Docs? Google Sheets? Google Groups? Lost? Need some help? Our November/December offering is a beginning session on the Google Universe at UUCC. We’ll talk why we use it\, how to access it\, how to navigate it\, some about the different tools. \n\n\n\nAll leaders and congregants are welcome\, we do ask you to register using https://forms.gle/zm9wHrRNfVXcpUNr5 so we know how many to plan for. \n\n\n\nWe currently have three sessions scheduled through January. We may add additional sessions in the new year if there is interest.Sunday offerings are in person following the Service \n\n\n\nSunday\, November 16 – Google at UUCCThursday\, December 4\, 7 pm – Google at UUCC (via Zoom)Sunday\, January 18 – Meetings with Meaning \n\n\n\nPlease send comments and questions to leadership.development@uucleveland.org
URL:https://uucleveland.org/uucc_event/learning-leading-loving-it-ldc-making-sense-of-the-google-suite-at-uucc/
END:VEVENT
END:VCALENDAR