BEGIN:VCALENDAR
VERSION:2.0
PRODID:-//Unitarian Universalist Congregation of Cleveland - ECPv6.15.20//NONSGML v1.0//EN
CALSCALE:GREGORIAN
METHOD:PUBLISH
X-WR-CALNAME:Unitarian Universalist Congregation of Cleveland
X-ORIGINAL-URL:https://uucleveland.org
X-WR-CALDESC:Events for Unitarian Universalist Congregation of Cleveland
REFRESH-INTERVAL;VALUE=DURATION:PT1H
X-Robots-Tag:noindex
X-PUBLISHED-TTL:PT1H
BEGIN:VTIMEZONE
TZID:America/New_York
BEGIN:DAYLIGHT
TZOFFSETFROM:-0500
TZOFFSETTO:-0400
TZNAME:EDT
DTSTART:20220313T070000
END:DAYLIGHT
BEGIN:STANDARD
TZOFFSETFROM:-0400
TZOFFSETTO:-0500
TZNAME:EST
DTSTART:20221106T060000
END:STANDARD
BEGIN:DAYLIGHT
TZOFFSETFROM:-0500
TZOFFSETTO:-0400
TZNAME:EDT
DTSTART:20230312T070000
END:DAYLIGHT
BEGIN:STANDARD
TZOFFSETFROM:-0400
TZOFFSETTO:-0500
TZNAME:EST
DTSTART:20231105T060000
END:STANDARD
BEGIN:DAYLIGHT
TZOFFSETFROM:-0500
TZOFFSETTO:-0400
TZNAME:EDT
DTSTART:20240310T070000
END:DAYLIGHT
BEGIN:STANDARD
TZOFFSETFROM:-0400
TZOFFSETTO:-0500
TZNAME:EST
DTSTART:20241103T060000
END:STANDARD
END:VTIMEZONE
BEGIN:VEVENT
DTSTART;TZID=America/New_York:20230205T090000
DTEND;TZID=America/New_York:20230205T100000
DTSTAMP:20260420T055630
CREATED:20230715T190434Z
LAST-MODIFIED:20230715T190445Z
UID:16438-1675587600-1675591200@uucleveland.org
SUMMARY:Censorship
DESCRIPTION:Speaker(s): Meryl Johnson\, retired teacher and member\, Ohio Board of Education\, District 11; Felton Thomas\, Executive Director & CEO\, Cleveland Public Library; Owen Ganor\, Student\, Rocky River High School. \n\n\n\nModerator: Margaret Nash\, PhD\, educator\, author of Mad River\, Marjorie Rowland\, and the Quest for LGBTQ Teachers’ Rights \n\n\n\nIn 1974\, an Ohio guidance school counselor was fired for being bisexual. Her lawsuit against the district laId a foundational legal argument for protecting LGBTQ+ individuals. Today\, pending legislation in Ohio threatens to tie the hands of teachers and materials in the classroom. Libraries across the nation face constant challenges of books\, many long-recognized as classics. What is the impact of this censorship?
URL:https://uucleveland.org/uucc_event/censorship/
CATEGORIES:Event Template,Forums
END:VEVENT
BEGIN:VEVENT
DTSTART;TZID=America/New_York:20230219T090000
DTEND;TZID=America/New_York:20230219T100000
DTSTAMP:20260420T055630
CREATED:20230715T190720Z
LAST-MODIFIED:20230715T190722Z
UID:16437-1676797200-1676800800@uucleveland.org
SUMMARY:Western Reserve Land Conservancy
DESCRIPTION:Speaker: Alex Czayka\, Chief Conservation Officer\, Western Reserve Land Conservancy \n\n\n\nNatural lands that could fall prey to commercial developers can be conserved and restored for future generations with the assistance of the Western Reserve Land Conservancy. The Conservancy has permanently protected almost 70\,000 acres of land\, helped create and expand more than  200 public parks and preserves\, and distributed and planted 15\,000 trees in Cleveland\, making it a national leader in conservation since its founding in 1987. What are some of the projects\, and how do they become reality?
URL:https://uucleveland.org/uucc_event/western-reserve-land-conservancy/
CATEGORIES:Event Template,Forums
END:VEVENT
BEGIN:VEVENT
DTSTART;TZID=America/New_York:20230226T090000
DTEND;TZID=America/New_York:20230226T100000
DTSTAMP:20260420T055630
CREATED:20230715T191003Z
LAST-MODIFIED:20230715T191006Z
UID:16436-1677402000-1677405600@uucleveland.org
SUMMARY:Medicare Privatization
DESCRIPTION:Speaker: J.B. Silvers\, PhD\, CWRU Weatherhead School of Management and School of Medicine \n\n\n\nMedicare is being “privatized” via Medicare Advantage (MA)\, the corporate alternative to traditional Medicare. MA is publicly financed but run by private insurance corporations. The administrative cost of Medicare: 2%; MA’s administrative cost: 20-40%. MA is used by almost 50% of the Medicare population and accounts for 55% of total Medicare spending (427 billion). Is comprehensive reform on the way?
URL:https://uucleveland.org/uucc_event/medicare-privatization/
CATEGORIES:Event Template,Forums
END:VEVENT
END:VCALENDAR