BEGIN:VCALENDAR
VERSION:2.0
PRODID:-//Unitarian Universalist Congregation of Cleveland - ECPv6.15.20//NONSGML v1.0//EN
CALSCALE:GREGORIAN
METHOD:PUBLISH
X-WR-CALNAME:Unitarian Universalist Congregation of Cleveland
X-ORIGINAL-URL:https://uucleveland.org
X-WR-CALDESC:Events for Unitarian Universalist Congregation of Cleveland
REFRESH-INTERVAL;VALUE=DURATION:PT1H
X-Robots-Tag:noindex
X-PUBLISHED-TTL:PT1H
BEGIN:VTIMEZONE
TZID:America/New_York
BEGIN:DAYLIGHT
TZOFFSETFROM:-0500
TZOFFSETTO:-0400
TZNAME:EDT
DTSTART:20240310T070000
END:DAYLIGHT
BEGIN:STANDARD
TZOFFSETFROM:-0400
TZOFFSETTO:-0500
TZNAME:EST
DTSTART:20241103T060000
END:STANDARD
BEGIN:DAYLIGHT
TZOFFSETFROM:-0500
TZOFFSETTO:-0400
TZNAME:EDT
DTSTART:20250309T070000
END:DAYLIGHT
BEGIN:STANDARD
TZOFFSETFROM:-0400
TZOFFSETTO:-0500
TZNAME:EST
DTSTART:20251102T060000
END:STANDARD
BEGIN:DAYLIGHT
TZOFFSETFROM:-0500
TZOFFSETTO:-0400
TZNAME:EDT
DTSTART:20260308T070000
END:DAYLIGHT
BEGIN:STANDARD
TZOFFSETFROM:-0400
TZOFFSETTO:-0500
TZNAME:EST
DTSTART:20261101T060000
END:STANDARD
END:VTIMEZONE
BEGIN:VEVENT
DTSTART;TZID=America/New_York:20250504T090000
DTEND;TZID=America/New_York:20250504T100000
DTSTAMP:20260423T051307
CREATED:20250114T021228Z
LAST-MODIFIED:20250514T001203Z
UID:47261-1746349200-1746352800@uucleveland.org
SUMMARY:100 Days In: A Town Hall on the Trump Administration
DESCRIPTION:Moderators: Laurie Albright and Mark Weber\, Activists \n\n\n\nMany Americans foresaw a catastrophic collapse of a lawfully governing democracy under a Trump administration\, while a slightly larger percentage anticipated a golden age marked by the creative dismantling of dysfunctional governmental systems. So … how’s it going? \n\n\n\nIs democracy holding up? How’s the economy? What’s the state of immigration\, the environment\, healthcare\, and the social safety net? Is watchdog journalism continuing to decline?  \n\n\n\nHow can we best support the priorities that are dear to us during the next four years? We’ll share our thoughts together. \n\n\n\nIn person in UUCC’s Fellowship Hall\, 21600 Shaker Blvd in Shaker Hts.or via ZOOM \n\n\n\nDue to technical difficulties with the recording\, this forum is not aired on the UUCC YouTube channel.
URL:https://uucleveland.org/uucc_event/100-days-in-an-open-floor-discussion-on-the-trump-administration/
CATEGORIES:Community,Forums,News
END:VEVENT
BEGIN:VEVENT
DTSTART;TZID=America/New_York:20250504T111500
DTEND;TZID=America/New_York:20250504T121500
DTSTAMP:20260423T051307
CREATED:20240519T192427Z
LAST-MODIFIED:20250504T013552Z
UID:45388-1746357300-1746360900@uucleveland.org
SUMMARY:2025 UUCC Freecycle - Postponed
DESCRIPTION:We understand the inconvenience this may cause\, especially considering the effort and anticipation for this event. Please rest assured\, this decision was not made lightly but deemed necessary to ensure the safety of all involved. \n\n\n\nWe are currently exploring all options to reschedule the event and will communicate the new date\, time\, and any other relevant details as soon as possible. \n\n\n\n \n\n\n\n \n\n\n\nRemember: one person’s trash is another person’s treasure\, so don’t throw it away\, give it away and swap! From silverware to mobile homes\, bring your used/worn items (nothing broken\, torn or otherwise unusable) and put them on tables under the solar array in the UUCC Shaker building parking lot and SWAP .  It’s a simple\, economical\, emotionally rewarding and morally sound practice that can literally help save the Earth. If you would like a table contact Sharon Edmond at sharon.edmond@uucleveland.org. \n\n\n\nSet up 9 am – 9:45 am \n\n\n\n“Shop” after Sunday Service from 11:15 pm to 12:15 pm \n\n\n\nVolunteers welcome and needed for clean-up at 12:30 pm \n\n\n\nAll unclaimed items will be donated to Easter Seals. \n\n\n\nReminder: No items for freecycle will be accepted or stored at the church prior to May 4th.
URL:https://uucleveland.org/uucc_event/2025-uucc-freecycle/
CATEGORIES:Congregational Event,News
END:VEVENT
BEGIN:VEVENT
DTSTART;TZID=America/New_York:20250504T113000
DTEND;TZID=America/New_York:20250504T123000
DTSTAMP:20260423T051307
CREATED:20250501T143406Z
LAST-MODIFIED:20250501T143410Z
UID:48689-1746358200-1746361800@uucleveland.org
SUMMARY:Let's UU our Senators!
DESCRIPTION:You remember UU the Vote? Let’s UU our Senators! Join a statewide UU effort to let our US Senators know we expect them to uphold our value of democracy by exercising their role as legislators. We have prepared postcards for you to add your message\, stamp and send this week. If you like this idea\, let us know and we will prepare more postcards! See you in Fellowship Hall after the Sunday May 4 service\, where you can pick up your postcards and learn more.
URL:https://uucleveland.org/uucc_event/lets-uu-our-senators/
END:VEVENT
BEGIN:VEVENT
DTSTART;TZID=America/New_York:20250504T140000
DTEND;TZID=America/New_York:20250504T160000
DTSTAMP:20260423T051307
CREATED:20250424T143505Z
LAST-MODIFIED:20250424T184414Z
UID:48639-1746367200-1746374400@uucleveland.org
SUMMARY:Why should I care? A learning circle
DESCRIPTION:The Youth Academy is working both in the community and in the church to engage youth in learning. One of the foundational tracks of the Youth Academy of Unitarian Universalist Congregation of Cleveland (UUCC) is Civic Engagement. We have offered programs on Civil Rights for Teens\, and Undesigning the Redline in the hopes of inspiring teens to think about\, discuss\, and take action on civic issues. I’m excited to share that the LGBT Center of Cleveland and the Youth Academy of UUCC are joining together to create an opportunity for teens to learn about current LGBT issues\, explore if these concerns are something they care about\, and determine if they would like to take action. The LGBT Center Executive Director\, Phyllis “Seven” Harris will facilitate a Learning Circle for teens ages 12-18. The Youth Academy of UUCC is a community outreach program. Please share the flyer with families in the community. Participants do need to register in advance by emailing Valerie Hura\, Youth Academy Coordinator at valerie.hura@uucleveland.org \n\n\n\nWhy Should I Care? Learning Circle for teensMay 4\, 20252:00-4:0021600 Shaker Blvd. \n\n\n\n\n\n\n\nSave the dates for Additional programs on the topic of LGBT issues: \n\n\n\nTaking Action Safely: preparing to participate in the Pride in the Cle March. (includes chill time for the teens)June 6\, 2025\, 6:00-9:00 pmUnitarian Universalist of Congregation of Cleveland21600 Shaker Hts. Blvd. \n\n\n\nParticipating in the Pride in the Cle March (Youth Academy is joining UUCC\, Pride for all Ages\, and UUCC Youth Group)June 7\, 2025
URL:https://uucleveland.org/uucc_event/youth-academy-of-uucc-attends-southeast-teen-summit-2/
CATEGORIES:Learning,Youth RE
END:VEVENT
BEGIN:VEVENT
DTSTART;TZID=America/New_York:20250504T180000
DTEND;TZID=America/New_York:20250504T200000
DTSTAMP:20260423T051307
CREATED:20250415T141733Z
LAST-MODIFIED:20250427T194546Z
UID:48579-1746381600-1746388800@uucleveland.org
SUMMARY:Game Night: UUCC Small Group
DESCRIPTION:New small group open to new members.This group is for those who enjoy gathering to play board and card games. We will focus on games that can be played in 1-2 hours\, ranging from 4-8 players\, maybe dividing up and playing more than one at a time depending on the number of players. Teach a game\, learn a new game\, make new friends! Members will take turns hosting the fun. Jonathan and Kat will lead the first gathering May 4th 2025 in their home in Solon.  Read More
URL:https://uucleveland.org/uucc_event/game-night-uucc-small-group/
CATEGORIES:Community,News,Small Group
END:VEVENT
BEGIN:VEVENT
DTSTART;TZID=America/New_York:20250508T183000
DTEND;TZID=America/New_York:20250508T183000
DTSTAMP:20260423T051307
CREATED:20250410T145539Z
LAST-MODIFIED:20250410T145542Z
UID:48530-1746729000-1746729000@uucleveland.org
SUMMARY:UUCC Budget Presentation Invitation - May 8\, 6:30 PM via Zoom
DESCRIPTION:UUCC Budget Presentation – May 8 at 6:30 pm via Zoom \n\n\n\nThe 2025-26 budget proposal will be presented to the Congregation via Zoom on May 8 at 6:30 pm. Please register in advance for this meeting: \n\n\n\nhttps://us02web.zoom.us/meeting/register/LoOWU6b2SeKzGSHTaq295w \n\n\n\nAfter registering\, you will receive a confirmation email containing information about joining the meeting.
URL:https://uucleveland.org/uucc_event/uucc-budget-presentation-invitation-may-8-630-pm-via-zoom/
CATEGORIES:Board Meeting,News
ATTACH;FMTTYPE=image/png:https://uucleveland.org/wp-content/uploads/2024/07/2024-25-Board-of-Trustees.png
END:VEVENT
BEGIN:VEVENT
DTSTART;TZID=America/New_York:20250510T190000
DTEND;TZID=America/New_York:20250510T190000
DTSTAMP:20260423T051307
CREATED:20250508T155927Z
LAST-MODIFIED:20250508T155951Z
UID:48812-1746903600-1746903600@uucleveland.org
SUMMARY:West Shore's Social Action Film Series
DESCRIPTION:The film series is free and open to the public. Hosted by West Shore Social Action Committee. \n\n\n\n\n\nCommon Ground is the highly anticipated sequel to the juggernaut success documentary\, Kiss the Ground\, which touched over 1 billion people globally and inspired the United States Department of Agriculture (USDA) to put $20 billion toward soil health. By fusing journalistic expose’ with deeply personal stories from those on the front lines of the food movement\, Common Ground unveils a dark web of money\, power\, and politics behind our broken food system. The film reveals how unjust practices forged our current farm system in which farmers of all colors are literally dying to feed us. The film profiles a hopeful and uplifting movement of white\, black\, and indigenous farmers who are using alternative “regenerative” models of agriculture that could balance the climate\, save our health\, and stabilize America’s economy – before it’s too late.  Tom Rapini\, President of the Ohio Ecological Food and Farm Association’s Lake Effect Chapter will join us after the film for commentary and Q&A. \n\n\n\nLink to film trailer:  https://youtu.be/6-M4Hq0MKFA \n\n\n\n(Film Length: 101 minutes   This film rated PG   Free Parking) \n\n\n\nWHEN: Saturday\, May 10th\, 2025\, at 7:00pm \n\n\n\nWHERE: West Shore Unitarian Universalist Church\, 20401 Hilliard Blvd.\, Rocky River\, Ohio 44116 \n\n\n\nCOST: The film series is free and open to the public (donations gratefully accepted). \n\n\n\nMore information at: FaceBook; www.facebook.com/wssafs          or https://wsuuc.org \n\n\n\nCONTACT:  email westshorefilmseries@gmail.com  or call Bob Bemer at 440-333-2255 \n\n\n\nHosted by West Shore Social Action Committee
URL:https://uucleveland.org/uucc_event/west-shores-social-action-film-series/
END:VEVENT
BEGIN:VEVENT
DTSTART;TZID=America/New_York:20250511T113000
DTEND;TZID=America/New_York:20250511T130000
DTSTAMP:20260423T051307
CREATED:20250427T201856Z
LAST-MODIFIED:20250427T201858Z
UID:46609-1746963000-1746968400@uucleveland.org
SUMMARY:2nd Sunday Potluck May 2025
DESCRIPTION:This is a full Potluck–bring your favorite dish to share. There will be clearly marked tables for Main Dishes\, Salads\, Sides\, and Desserts in Fellowship Hall prior to the service. Consider labeling your food ingredients: vegetarian\, vegan\, gluten free\, etc.
URL:https://uucleveland.org/uucc_event/2nd-sunday-potluck-may2025/
CATEGORIES:Community,Congregational Event,Event Template,News
ATTACH;FMTTYPE=image/jpeg:https://uucleveland.org/wp-content/uploads/2024/09/2025-May-Potluck-Banner.jpg
END:VEVENT
BEGIN:VEVENT
DTSTART;TZID=America/New_York:20250513T190000
DTEND;TZID=America/New_York:20250513T203000
DTSTAMP:20260423T051307
CREATED:20250410T142148Z
LAST-MODIFIED:20250410T142150Z
UID:48518-1747162800-1747168200@uucleveland.org
SUMMARY:May Action – GCC’s Healthy Blocks Initiative!
DESCRIPTION:Want to join Greater Cleveland Congregations’ Upcoming Action? Greater Cleveland Congregations (GCC)\, a non-partisan coalition of faith communities and partner organizations in Cuyahoga County\, is excited to invite you to a momentous event as its Healthy Blocks Initiative goes public! The Healthy Blocks Initiative is a potent movement that invests energy and resources into revitalizing neighborhoods. Join us on Tuesday\, May 13\, 2025\, from 7pm to 8:30 pm at Lee Road Baptist Church (3970 Lee Road\, Cleveland) to celebrate this milestone. This is an opportunity to come together and take action to strengthen our communities through access to healthcare\, aging-in-place housing\, and shared connections. \n\n\n\nTo participate in the Healthy Blocks Initiative on May 13\, and to learn more about Greater Cleveland Congregations\, look for your GCC Core team in Fellowship Hall following services on Sunday\, April 13 and 20. Or please contact Laurie Albright at: Sunnyskies2023@yahoo.com.
URL:https://uucleveland.org/uucc_event/may-action-gccs-healthy-blocks-initiative/
CATEGORIES:GCC,Justice
END:VEVENT
BEGIN:VEVENT
DTSTART;TZID=America/New_York:20250517T140000
DTEND;TZID=America/New_York:20250517T140000
DTSTAMP:20260423T051307
CREATED:20250515T143903Z
LAST-MODIFIED:20250515T143905Z
UID:48875-1747490400-1747490400@uucleveland.org
SUMMARY:Pretrial Training Session
DESCRIPTION:Our final training for Cohort #3 is this Saturday\, 5/17 @ 2:00pm in Fellowship Hall. Please bring your laptop or tablet so we can go over our Case Management System. \n\n\n\nIf you missed any of the previous trainings\, we can provide the presenations to you so you can catch up. Please contact the Director\, Stephanie K. Thomas at pretrial.support@uucleveland.org or via text at 440-318-4365
URL:https://uucleveland.org/uucc_event/pretrial-training-session/
END:VEVENT
BEGIN:VEVENT
DTSTART;TZID=America/New_York:20250518T111500
DTEND;TZID=America/New_York:20250518T121500
DTSTAMP:20260423T051307
CREATED:20250508T145955Z
LAST-MODIFIED:20250508T150213Z
UID:48799-1747566900-1747570500@uucleveland.org
SUMMARY:2025 UUCC Freecycle - RAIN DATE
DESCRIPTION:Remember: one person’s trash is another person’s treasure\, so don’t throw it away\, give it away and swap! From silverware to mobile homes\, bring your used/worn items (nothing broken\, torn or otherwise unusable) and put them on tables under the solar array in the UUCC Shaker building parking lot and SWAP .  It’s a simple\, economical\, emotionally rewarding and morally sound practice that can literally help save the Earth. If you would like a table contact Sharon Edmond at sharon.edmond@uucleveland.org. \n\n\n\nSet up 9 am – 9:45 am \n\n\n\n“Shop” after Sunday Service from 11:15 pm to 12:15 pm \n\n\n\nVolunteers welcome and needed for clean-up at 12:30 pm \n\n\n\nAll unclaimed items will be donated to Easter Seals. \n\n\n\nReminder: No items for freecycle will be accepted or stored at the church prior to May 4th.
URL:https://uucleveland.org/uucc_event/2025-uucc-freecycle-rain-date/
CATEGORIES:Congregational Event,News
END:VEVENT
BEGIN:VEVENT
DTSTART;TZID=America/New_York:20250524T130000
DTEND;TZID=America/New_York:20250524T130000
DTSTAMP:20260423T051307
CREATED:20250501T140842Z
LAST-MODIFIED:20250501T140846Z
UID:48683-1748091600-1748091600@uucleveland.org
SUMMARY:Tour of Rid-All Green Partnership
DESCRIPTION:See for yourself the wonderful regenerative farm and community builder that is the Rid-All Green Partnership in Cleveland’s “Forgotten Triangle.” UU Ministry for Earth is sponsoring a tour for UUCC folks\, including families\, on May 24 at 1 pm\, 1971 East 66th St. or carpool from the church at 12:30. $10 per adult\, free or donation for children. Register at nancykingsmith@mac.com. Can’t make the tour? View the excellent 35-minute film about Rid-All at https://ridall.org/soil-brothers-premiere-release-1-1-2025/.
URL:https://uucleveland.org/uucc_event/tour-of-rid-all-green-partnership/
LOCATION:Fellowship Hall at the UU Congregation of Cleveland\, 21600 Shaker Blvd.\, Shaker Height\, OH\, 44122\, United States
CATEGORIES:Community,Justice,Learning,News
END:VEVENT
BEGIN:VEVENT
DTSTART;TZID=America/New_York:20250525T113000
DTEND;TZID=America/New_York:20250525T130000
DTSTAMP:20260423T051307
CREATED:20250518T000857Z
LAST-MODIFIED:20250518T000900Z
UID:48890-1748172600-1748178000@uucleveland.org
SUMMARY:Pride for All Ages May 2025
DESCRIPTION:Pride for All Ages is an intergenerational group that is open to all who identify as LGBTQ+. We meet the 4th Sunday of every month at 11:30 in the Baker Room. \n\n\n\nWe gather as a group for support\, for friendship\, for event planning\, and as a resource to the congregation. All LGBTQ+ people welcome!
URL:https://uucleveland.org/uucc_event/pride-for-all-ages-may-2025/
CATEGORIES:Justice,News
ATTACH;FMTTYPE=image/jpeg:https://uucleveland.org/wp-content/uploads/2024/07/Pride-for-All-Ages-July-2024-1.jpg
END:VEVENT
BEGIN:VEVENT
DTSTART;TZID=America/New_York:20250527T190000
DTEND;TZID=America/New_York:20250527T190000
DTSTAMP:20260423T051307
CREATED:20250515T134542Z
LAST-MODIFIED:20250518T002150Z
UID:48864-1748372400-1748372400@uucleveland.org
SUMMARY:UUCC Board Meeting
DESCRIPTION:Board Meeting – May 27 \n\n\n\nThe next Board meeting will be May 27 at 7:00 pm. To get the Zoom link email board@uucleveland.org. Please submit requests by 5:00 pm May 26 to allow time for processing. \n\n\n\nMeetings are usually held via Zoom from 7:00 – 9:00 PM on the fourth Tuesday
URL:https://uucleveland.org/uucc_event/uucc-board-meeting-2/
CATEGORIES:Board Meeting,News
END:VEVENT
BEGIN:VEVENT
DTSTART;TZID=America/New_York:20250531T170000
DTEND;TZID=America/New_York:20250531T233000
DTSTAMP:20260423T051307
CREATED:20250515T135301Z
LAST-MODIFIED:20250518T002236Z
UID:48866-1748710800-1748734200@uucleveland.org
SUMMARY:Taking Action Safely: Preparing to March
DESCRIPTION:The Youth Academy of UUCC is joining with the Teen Youth Group of UUCC on Saturday May 31st to explore “Taking Action Safely”. In preparation for participation in the Pride in Cle March we will hear suggestions from past march participants\, review march etiquette\, and hear safety tips from the LGBT Center. Teens will have the opportunity to create slogans and posters to share during the March. \n\n\n\nFirst though\, from 5:00-6:30\, teens will have an opportunity to get to know each other at a joint cookout. Then from 6:30-11:00 pm it is Late Night\, PRIDE prep edition Taking Action Safely and fun\, chill activities. \n\n\n\nYouth Academy participants for this program include teens from the community ages 12-18. If you know a teen who may be interested in participating\, please have their parents or guardians email Youth Academy Coordinator\, Valerie Hura at valerie.hura@uucleveland.org. to register. The program is Free.
URL:https://uucleveland.org/uucc_event/taking-action-safely-preparing-to-march/
CATEGORIES:Community,Learning,Youth RE
END:VEVENT
END:VCALENDAR