BEGIN:VCALENDAR
VERSION:2.0
PRODID:-//Unitarian Universalist Congregation of Cleveland - ECPv6.15.20//NONSGML v1.0//EN
CALSCALE:GREGORIAN
METHOD:PUBLISH
X-ORIGINAL-URL:https://uucleveland.org
X-WR-CALDESC:Events for Unitarian Universalist Congregation of Cleveland
REFRESH-INTERVAL;VALUE=DURATION:PT1H
X-Robots-Tag:noindex
X-PUBLISHED-TTL:PT1H
BEGIN:VTIMEZONE
TZID:America/New_York
BEGIN:DAYLIGHT
TZOFFSETFROM:-0500
TZOFFSETTO:-0400
TZNAME:EDT
DTSTART:20240310T070000
END:DAYLIGHT
BEGIN:STANDARD
TZOFFSETFROM:-0400
TZOFFSETTO:-0500
TZNAME:EST
DTSTART:20241103T060000
END:STANDARD
BEGIN:DAYLIGHT
TZOFFSETFROM:-0500
TZOFFSETTO:-0400
TZNAME:EDT
DTSTART:20250309T070000
END:DAYLIGHT
BEGIN:STANDARD
TZOFFSETFROM:-0400
TZOFFSETTO:-0500
TZNAME:EST
DTSTART:20251102T060000
END:STANDARD
BEGIN:DAYLIGHT
TZOFFSETFROM:-0500
TZOFFSETTO:-0400
TZNAME:EDT
DTSTART:20260308T070000
END:DAYLIGHT
BEGIN:STANDARD
TZOFFSETFROM:-0400
TZOFFSETTO:-0500
TZNAME:EST
DTSTART:20261101T060000
END:STANDARD
END:VTIMEZONE
BEGIN:VEVENT
DTSTART;TZID=America/New_York:20250712T100000
DTEND;TZID=America/New_York:20250712T120000
DTSTAMP:20260423T025910
CREATED:20250710T162648Z
LAST-MODIFIED:20250710T162651Z
UID:49309-1752314400-1752321600@uucleveland.org
SUMMARY:Life's Toolbox for Pre-Teens: Connecting With Nature
DESCRIPTION:Over the past few months\, the Youth Academy of the Unitarian Universalist Congregation of Cleveland (UUCC) has been building a “Life’s Toolbox” with pre-teens—filled with healthy\, mindful practices to support well-being. Through movement\, yoga\, writing\, games\, and art\, participants have explored tools such as personal space\, feeling identification\, yogic breathing\, mindful doodling\, and journaling.Our next session invites pre-teens to explore how connecting with nature can support a healthy and balanced life. Together\, we’ll step outside\, slow down\, and build deeper awareness of the natural world.This free program is open to all youth ages 9–12\, including UUCC members\, friends\, and anyone in the wider community.To reserve a spot\, email valerie.hura@uucleveland.org with your pre-teen’s name.Valerie Hura\, Youth Academy Coordinator\, will follow up with more details. \n\n\n\n\n\n\n\n\n\n\n\n\n\n\n\n\n\nEvent flyer created by Astrid Burkle and Abs Burkle
URL:https://uucleveland.org/uucc_event/lifes-toolbox-for-pre-teens-connecting-with-nature/
END:VEVENT
BEGIN:VEVENT
DTSTART;TZID=America/New_York:20250714T170000
DTEND;TZID=America/New_York:20250714T183000
DTSTAMP:20260423T025910
CREATED:20250710T163818Z
LAST-MODIFIED:20250710T163820Z
UID:49315-1752512400-1752517800@uucleveland.org
SUMMARY:UUCC Pretrial Support - Calling All Navigators
DESCRIPTION:The UUCC Pretrial Support Team is gathering for a special evening of connection\, reflection\, and recruitment. Whether you’re already a Navigator or curious about becoming one\, we’d love to have you join us! Date: Monday\, July 14Time:  5:00–6:30 PMLocation:Unitarian Universalist Congregation of Cleveland21600 Shaker Blvd.\, Shaker Heights\, OH 44120Enjoy a light supper and hear from current Navigators as we share stories\, challenges\, and successes\, and explore how to grow our impact.RSVP: patdillard13@gmail.comWe’re seeing increased demand for Navigator support\, and we’ll be offering a short training soon for those ready to step in and help. Come learn how you can make a difference!
URL:https://uucleveland.org/uucc_event/uucc-pretrial-support-calling-all-navigators/
END:VEVENT
BEGIN:VEVENT
DTSTART;TZID=America/New_York:20250715T170000
DTEND;TZID=America/New_York:20250715T183000
DTSTAMP:20260423T025910
CREATED:20250703T155607Z
LAST-MODIFIED:20250703T155609Z
UID:49229-1752598800-1752604200@uucleveland.org
SUMMARY:Invitation for all Navigators and Navigators-to-be!
DESCRIPTION:The UUCC Pretrial Support Team is coming together to share our rewarding experiences\, challenges and successes. All our amazing Navigators are invited\, as well as people who are interested in learning more about being a future Navigator. \n\n\n\nWhen: Monday\, July 14\,  5:00-6:30 pm \n\n\n\nWhere: Unitarian Universalist Congregation of  Cleveland\, 12600 Shaker Blvd.\, Shaker Hts. \n\n\n\nLight supper provided    RSVP: patdillard13@gmail.com \n\n\n\nWe are connecting with many more people who want our services\, and we need more Navigators. \n\n\n\nWe will have a short Navigator training class soon to bring more Navigators on board. \n\n\n\nUUCC One-Pager (1) (1)Download
URL:https://uucleveland.org/uucc_event/invitation-for-all-navigators-and-navigators-to-be/
CATEGORIES:McKimm Fund,News
END:VEVENT
BEGIN:VEVENT
DTSTART;TZID=America/New_York:20250718T183000
DTEND;TZID=America/New_York:20250718T220000
DTSTAMP:20260423T025910
CREATED:20250710T171824Z
LAST-MODIFIED:20250710T171826Z
UID:49317-1752863400-1752876000@uucleveland.org
SUMMARY:Zine and Adventure Night for LGBTQ+ Youth and Youth Allies
DESCRIPTION:Zine Adventure Night: A Creative Celebration for LGBTQ+ Youth & Allies! 🎨🌈The Youth Academy of the Unitarian Universalist Congregation of Cleveland\, in partnership with Lake Erie Ink\, is thrilled to present Zine Adventure Night — an evening of self-expression\, creativity\, and community.Open to LGBTQ+ youth and youth allies ages 12-18\, this event offers a chance to create personal zines and share your story in a supportive\, affirming space. The night continues with a Choose Your Own Adventure Afterparty\, featuring a variety of fun options — from movies and games to arts & crafts and\, of course\, pizza!Date: Friday\, July 18\, 2025 Time: 6:30–10:00 PMLocation: UUCC Fellowship HallRegister by contacting Youth Academy Coordinator\, Valerie Hura valerie.hura@uucleveland.orgCome make something amazing\, connect with new friends\, and celebrate who you are!
URL:https://uucleveland.org/uucc_event/zine-and-adventure-night-for-lgbtq-youth-and-youth-allies/
END:VEVENT
BEGIN:VEVENT
DTSTART;TZID=America/New_York:20250720T120000
DTEND;TZID=America/New_York:20250720T150000
DTSTAMP:20260423T025910
CREATED:20250710T172724Z
LAST-MODIFIED:20250710T172726Z
UID:49320-1753012800-1753023600@uucleveland.org
SUMMARY:80th Annual Obon Festival
DESCRIPTION:
URL:https://uucleveland.org/uucc_event/80th-annual-obon-festival/
END:VEVENT
BEGIN:VEVENT
DTSTART;TZID=America/New_York:20250720T153000
DTEND;TZID=America/New_York:20250720T163000
DTSTAMP:20260423T025910
CREATED:20250719T184257Z
LAST-MODIFIED:20250719T184733Z
UID:49440-1753025400-1753029000@uucleveland.org
SUMMARY:UU Justice Ohio Convo: "UUs and Allies"
DESCRIPTION:UUJO (UU Justice Ohio) Community Conversations (CONVOs) on Zoom.  Sunday\, July 20th\, 3:30 pm– 4:30\, “UUs and Allies\,” the first of this third Sunday discussion series will include sharing what congregations have been doing in ongoing community demonstrations and strategies of working across denominations.  RSVP here to obtain the Zoom link
URL:https://uucleveland.org/uucc_event/uu-justice-ohio-convo-uus-and-allies/
CATEGORIES:Community,Justice,News
ATTACH;FMTTYPE=image/jpeg:https://uucleveland.org/wp-content/uploads/2025/07/uujo.jpg
END:VEVENT
BEGIN:VEVENT
DTSTART;TZID=America/New_York:20250725T193000
DTEND;TZID=America/New_York:20250725T193000
DTSTAMP:20260423T025910
CREATED:20250710T163045Z
LAST-MODIFIED:20250717T154447Z
UID:49313-1753471800-1753471800@uucleveland.org
SUMMARY:Silent Peace Walk Planning Meeting
DESCRIPTION:This August marks the 80th Anniversary of the bombings of Hiroshima and Nagasaki. Please consider joining our spiritual community partners\, Cleveland Buddhist Temple\, as well as other groups for a Silent Peace Walk on August 6\, 2025. This Peace Walk is intended to commemorate this unprecedented violence and the horror of Atomic warfare and to remind ourselves of “Never Again.” The Silent Peace Walk will proceed from downtown Cleveland on E. 9th St. to Lake Erie\, and you are invited be among eighty people dressed in white\, the color of mourning in Japan\, to solemnly and meditatively proceed to the Lake as the Hibakusha\, the “bomb-affected people\,” walked and sought water to ease their suffering. \n\n\n\nTheir next planning meeting is Wednesday\, July 25\, 2025 at 7:30 PM EDT. Contact John Barnes at barnesjohn51405@gmail.com for the Zoom link if you would like to participate.
URL:https://uucleveland.org/uucc_event/silent-peace-walk-planning-meeting/
END:VEVENT
BEGIN:VEVENT
DTSTART;TZID=America/New_York:20250726T130000
DTEND;TZID=America/New_York:20250726T160000
DTSTAMP:20260423T025910
CREATED:20250717T141104Z
LAST-MODIFIED:20250717T154339Z
UID:49375-1753534800-1753545600@uucleveland.org
SUMMARY:Small Group Ministry Workshop
DESCRIPTION:The Small Group Ministry Team invites you to participate in workshop on July 26th 1:00-4:00 PM at UUCC\, facilitated by Rev. Randy and Amy Collins\, CLM. This gathering is for facilitators\, for those who are open to learning about exploring facilitation in the future\, and for those that just want to deepen their understanding of and participation in Small Groups.  There are no prerequisites!  Come hang out with awesome folks\, share small group successes and challenges\, and gain tools for meaningful and effective participation in small groups.  \n\n\n\nWe believe the in-person version of this workshop will be the most beneficial way to experience it\, but if you know you are not available on the 26th\, please let us know if you are interested in participating in a follow-up Zoom version soon after the in-person meeting date. You’ll have to provide your own snacks for that one! Please confirm your participation/interest by emailing Amy @ amymcollins@sbcglobal.net.
URL:https://uucleveland.org/uucc_event/small-group-ministry-workshop/
END:VEVENT
BEGIN:VEVENT
DTSTART;TZID=America/New_York:20250727T113000
DTEND;TZID=America/New_York:20250727T130000
DTSTAMP:20260423T025910
CREATED:20250713T235437Z
LAST-MODIFIED:20250713T235439Z
UID:49345-1753615800-1753621200@uucleveland.org
SUMMARY:Pride for All Ages July 2025
DESCRIPTION:Pride for All Ages is an intergenerational group that is open to all who identify as LGBTQ+. We meet the 4th Sunday of every month at 11:30 in the Baker Room. \n\n\n\nWe gather as a group for support\, for friendship\, for event planning\, and as a resource to the congregation. All LGBTQ+ people welcome! \n\n\n\nThe next meeting of Pride for All Ages is June 22. All LGBTQ+ people welcome!
URL:https://uucleveland.org/uucc_event/pride-for-all-ages-july-2025/
CATEGORIES:Justice,News
ATTACH;FMTTYPE=image/jpeg:https://uucleveland.org/wp-content/uploads/2024/08/Pride-for-All-Ages-August-2024.jpg
END:VEVENT
END:VCALENDAR